BEGIN:VCALENDAR
VERSION:2.0
PRODID:-//jEvents 2.0 for Joomla//EN
CALSCALE:GREGORIAN
METHOD:PUBLISH
BEGIN:VTIMEZONE
TZID:America/Chicago
BEGIN:STANDARD
DTSTART:20230216T180000
RDATE:20230312T030000
TZOFFSETFROM:-0500
TZOFFSETTO:-0600
TZNAME:America/Chicago CST
END:STANDARD
BEGIN:STANDARD
DTSTART:20231105T010000
RDATE:20240310T030000
TZOFFSETFROM:-0500
TZOFFSETTO:-0600
TZNAME:America/Chicago CST
END:STANDARD
BEGIN:STANDARD
DTSTART:20241103T010000
RDATE:20250309T030000
TZOFFSETFROM:-0500
TZOFFSETTO:-0600
TZNAME:America/Chicago CST
END:STANDARD
BEGIN:STANDARD
DTSTART:20251102T010000
RDATE:20260308T030000
TZOFFSETFROM:-0500
TZOFFSETTO:-0600
TZNAME:America/Chicago CST
END:STANDARD
BEGIN:STANDARD
DTSTART:20261101T010000
RDATE:20270314T030000
TZOFFSETFROM:-0500
TZOFFSETTO:-0600
TZNAME:America/Chicago CST
END:STANDARD
BEGIN:STANDARD
DTSTART:20271107T010000
RDATE:20280312T030000
TZOFFSETFROM:-0500
TZOFFSETTO:-0600
TZNAME:America/Chicago CST
END:STANDARD
BEGIN:STANDARD
DTSTART:20281105T010000
RDATE:20290311T030000
TZOFFSETFROM:-0500
TZOFFSETTO:-0600
TZNAME:America/Chicago CST
END:STANDARD
BEGIN:STANDARD
DTSTART:20291104T010000
RDATE:20300310T030000
TZOFFSETFROM:-0500
TZOFFSETTO:-0600
TZNAME:America/Chicago CST
END:STANDARD
BEGIN:STANDARD
DTSTART:20301103T010000
RDATE:20310309T030000
TZOFFSETFROM:-0500
TZOFFSETTO:-0600
TZNAME:America/Chicago CST
END:STANDARD
BEGIN:STANDARD
DTSTART:20311102T010000
RDATE:20320314T030000
TZOFFSETFROM:-0500
TZOFFSETTO:-0600
TZNAME:America/Chicago CST
END:STANDARD
BEGIN:DAYLIGHT
DTSTART:20230312T030000
RDATE:20231105T010000
TZOFFSETFROM:-0600
TZOFFSETTO:-0500
TZNAME:America/Chicago CDT
END:DAYLIGHT
BEGIN:DAYLIGHT
DTSTART:20240310T030000
RDATE:20241103T010000
TZOFFSETFROM:-0600
TZOFFSETTO:-0500
TZNAME:America/Chicago CDT
END:DAYLIGHT
BEGIN:DAYLIGHT
DTSTART:20250309T030000
RDATE:20251102T010000
TZOFFSETFROM:-0600
TZOFFSETTO:-0500
TZNAME:America/Chicago CDT
END:DAYLIGHT
BEGIN:DAYLIGHT
DTSTART:20260308T030000
RDATE:20261101T010000
TZOFFSETFROM:-0600
TZOFFSETTO:-0500
TZNAME:America/Chicago CDT
END:DAYLIGHT
BEGIN:DAYLIGHT
DTSTART:20270314T030000
RDATE:20271107T010000
TZOFFSETFROM:-0600
TZOFFSETTO:-0500
TZNAME:America/Chicago CDT
END:DAYLIGHT
BEGIN:DAYLIGHT
DTSTART:20280312T030000
RDATE:20281105T010000
TZOFFSETFROM:-0600
TZOFFSETTO:-0500
TZNAME:America/Chicago CDT
END:DAYLIGHT
BEGIN:DAYLIGHT
DTSTART:20290311T030000
RDATE:20291104T010000
TZOFFSETFROM:-0600
TZOFFSETTO:-0500
TZNAME:America/Chicago CDT
END:DAYLIGHT
BEGIN:DAYLIGHT
DTSTART:20300310T030000
RDATE:20301103T010000
TZOFFSETFROM:-0600
TZOFFSETTO:-0500
TZNAME:America/Chicago CDT
END:DAYLIGHT
BEGIN:DAYLIGHT
DTSTART:20310309T030000
RDATE:20311102T010000
TZOFFSETFROM:-0600
TZOFFSETTO:-0500
TZNAME:America/Chicago CDT
END:DAYLIGHT
END:VTIMEZONE
BEGIN:VEVENT
UID:db9aa23d1d46a2bf3ec8d021b242b44c
CATEGORIES:Auctions
CREATED:20240214T105033
SUMMARY:ONLINE Business Liquidation Auction for Paddy's Game Shoppe
LOCATION:2018 Veterans Drive\, St Cloud\, MN
DESCRIPTION:PLEASE VIEW ALL PICTURES OF LOTS AND ATTEND PREVIEW IF POSSIBLE ON bid.blac
 kdiamondauctions.com/auction/68 (https://bid.blackdiamondauctions.com/aucti
 on/68).\nWe are doing an Online Business Liquidation Auction for Paddy's Ga
 me Shoppe located at 2018 Veterans Drive, St Cloud, MN\n\n - Previews Satur
 day Feb. 17th 1-3 p.m.\n - Begins Closing Sunday 2/22/2024 06:00 pm\n - Rem
 oval is Saturday Feb. 24thAuctioneer's NoteAfter 18 years in business we ar
 e selling all games and puzzles along with shelving, tables and chairs, TVs
 . cooler and freezer.\nCall Col Frank with questions 320-241-1200 (tel:320-
 241-1200)\nAuction Preview &amp; Removal Location


X-ALT-DESC;FMTTYPE=text/html:<div></div><p><strong>PLEASE VIEW ALL PICTURES OF LOTS AND ATTEND PREVIEW I
 F POSSIBLE ON</strong> <a href="https://bid.blackdiamondauctions.com/auctio
 n/68" target="_blank">bid.blackdiamondauctions.com/auction/68</a>.</p><p>We
  are doing an Online Business Liquidation Auction for Paddy's Game Shoppe l
 ocated at 2018 Veterans Drive, St Cloud, MN</p><ul><li>Previews Saturday Fe
 b. 17th 1-3 p.m.</li><li>Begins Closing Sunday 2/22/2024 06:00 pm</li><li>R
 emoval is Saturday Feb. 24th</li></ul><hr /><div class="uk-comment-header" 
 style="margin-top: 40px;"><h4>Auctioneer's Note</h4><p>After 18 years in bu
 siness we are selling all games and puzzles along with shelving, tables and
  chairs, TVs. cooler and freezer.</p><p>Call Col Frank with questions <a hr
 ef="https://blackdiamondauctions.com/tel:320-241-1200">320-241-1200</a></p>
 </div><hr /><h4><a id="map"></a>Auction Preview & Removal Location</h4><div
 >
<iframe title='A map by Google Maps' class='embedGoogleMap' width='100%' 
 height='450' style='border: 0px solid #000000' src='https://www.google.com/
 maps?q=2018+Veterans+Drive%2C+St+Cloud%2C+MN&z=14&t=m&output=embed'></ifram
 e>
</div>
DTSTAMP:20260425T235339
DTSTART;TZID=America/Chicago:20240217T180000
SEQUENCE:0
TRANSP:OPAQUE
END:VEVENT
END:VCALENDAR